BEGIN:VCALENDAR
VERSION:2.0
PRODID:-//Grassroots House - ECPv6.15.17.1//NONSGML v1.0//EN
CALSCALE:GREGORIAN
METHOD:PUBLISH
X-WR-CALNAME:Grassroots House
X-ORIGINAL-URL:https://www.grassrootshouse.org
X-WR-CALDESC:Events for Grassroots House
REFRESH-INTERVAL;VALUE=DURATION:PT1H
X-Robots-Tag:noindex
X-PUBLISHED-TTL:PT1H
BEGIN:VTIMEZONE
TZID:UTC
BEGIN:STANDARD
TZOFFSETFROM:+0000
TZOFFSETTO:+0000
TZNAME:UTC
DTSTART:20250101T000000
END:STANDARD
END:VTIMEZONE
BEGIN:VEVENT
DTSTART;TZID=UTC:20260504T090000
DTEND;TZID=UTC:20260504T123000
DTSTAMP:20260423T095735
CREATED:20260406T090122Z
LAST-MODIFIED:20260419T234121Z
UID:10002952-1777885200-1777897800@www.grassrootshouse.org
SUMMARY:IWW IU 410 Textile Workers
DESCRIPTION:
URL:https://www.grassrootshouse.org/event/iww-iu-410-textile-workers-2/2026-05-04/
LOCATION:Back Room
END:VEVENT
BEGIN:VEVENT
DTSTART;TZID=UTC:20260518T090000
DTEND;TZID=UTC:20260518T123000
DTSTAMP:20260423T095735
CREATED:20260406T090122Z
LAST-MODIFIED:20260419T234121Z
UID:10002953-1779094800-1779107400@www.grassrootshouse.org
SUMMARY:IWW IU 410 Textile Workers
DESCRIPTION:
URL:https://www.grassrootshouse.org/event/iww-iu-410-textile-workers-2/2026-05-18/
LOCATION:Back Room
END:VEVENT
END:VCALENDAR