BEGIN:VCALENDAR
VERSION:2.0
PRODID:-//Grassroots House - ECPv6.15.17.1//NONSGML v1.0//EN
CALSCALE:GREGORIAN
METHOD:PUBLISH
X-WR-CALNAME:Grassroots House
X-ORIGINAL-URL:https://www.grassrootshouse.org
X-WR-CALDESC:Events for Grassroots House
REFRESH-INTERVAL;VALUE=DURATION:PT1H
X-Robots-Tag:noindex
X-PUBLISHED-TTL:PT1H
BEGIN:VTIMEZONE
TZID:UTC
BEGIN:STANDARD
TZOFFSETFROM:+0000
TZOFFSETTO:+0000
TZNAME:UTC
DTSTART:20250101T000000
END:STANDARD
END:VTIMEZONE
BEGIN:VEVENT
DTSTART;TZID=UTC:20260708T190000
DTEND;TZID=UTC:20260708T200000
DTSTAMP:20260423T233247
CREATED:20250112T214329Z
LAST-MODIFIED:20250112T214813Z
UID:10001165-1783537200-1783540800@www.grassrootshouse.org
SUMMARY:TANC (Tenant and Neighborhood Council) meeting
DESCRIPTION:
URL:https://www.grassrootshouse.org/event/tanc-tenant-and-neighborhood-council-meeting/2026-07-08/
END:VEVENT
BEGIN:VEVENT
DTSTART;TZID=UTC:20260711T100000
DTEND;TZID=UTC:20260711T130000
DTSTAMP:20260423T233247
CREATED:20260108T232000Z
LAST-MODIFIED:20260108T232000Z
UID:10002748-1783764000-1783774800@www.grassrootshouse.org
SUMMARY:Copwatch Neighborhood Patrols
DESCRIPTION:
URL:https://www.grassrootshouse.org/event/copwatch-neighborhood-patrols-2/2026-07-11/
END:VEVENT
BEGIN:VEVENT
DTSTART;TZID=UTC:20260711T130000
DTEND;TZID=UTC:20260711T143000
DTSTAMP:20260423T233247
CREATED:20260110T172048Z
LAST-MODIFIED:20260110T172048Z
UID:10002768-1783774800-1783780200@www.grassrootshouse.org
SUMMARY:BTU Steering Committee Meeting
DESCRIPTION:
URL:https://www.grassrootshouse.org/event/btu-steering-committee-meeting/2026-07-11/
END:VEVENT
BEGIN:VEVENT
DTSTART;TZID=UTC:20260711T150000
DTEND;TZID=UTC:20260711T160000
DTSTAMP:20260423T233247
CREATED:20251002T191022Z
LAST-MODIFIED:20251002T191022Z
UID:10002442-1783782000-1783785600@www.grassrootshouse.org
SUMMARY:Berkeley Tenant Organizing Task Force Meeting (BTU)
DESCRIPTION:
URL:https://www.grassrootshouse.org/event/berkeley-tenant-organizing-task-force-meeting-btu-3/2026-07-11/
END:VEVENT
BEGIN:VEVENT
DTSTART;TZID=UTC:20260713T190000
DTEND;TZID=UTC:20260713T220000
DTSTAMP:20260423T233247
CREATED:20250112T214551Z
LAST-MODIFIED:20250112T214629Z
UID:10000844-1783969200-1783980000@www.grassrootshouse.org
SUMMARY:CopWatch meeting
DESCRIPTION:
URL:https://www.grassrootshouse.org/event/copwatch-meeting/2026-07-13/
END:VEVENT
BEGIN:VEVENT
DTSTART;TZID=UTC:20260714T190000
DTEND;TZID=UTC:20260714T200000
DTSTAMP:20260423T233247
CREATED:20250112T213551Z
LAST-MODIFIED:20250112T214850Z
UID:10001226-1784055600-1784059200@www.grassrootshouse.org
SUMMARY:Grassroots House monthly house meeting
DESCRIPTION:
URL:https://www.grassrootshouse.org/event/grassroots-house-monthly-house-meeting/2026-07-14/
END:VEVENT
BEGIN:VEVENT
DTSTART;TZID=UTC:20260719T160000
DTEND;TZID=UTC:20260719T180000
DTSTAMP:20260423T233247
CREATED:20250115T211243Z
LAST-MODIFIED:20250517T024732Z
UID:10001291-1784476800-1784484000@www.grassrootshouse.org
SUMMARY:Berkeley Tenants Union Membership Meeting
DESCRIPTION:Join us the third Sunday of every month from 4:00pm to 5:30pm for our regular membership meeting and potluck! \nYou can sign-up for our email list at bit.ly/BerkeleyTenants.
URL:https://www.grassrootshouse.org/event/berkeley-tenants-union-membership-meeting/2026-07-19/
ATTACH;FMTTYPE=image/jpeg:https://www.grassrootshouse.org/wp-content/uploads/2025/01/Third-Sunday-of-the-Month.jpg
ORGANIZER;CN="Berkeley Tenants Union":MAILTO:info@berkeleytenants.org
END:VEVENT
BEGIN:VEVENT
DTSTART;TZID=UTC:20260720T190000
DTEND;TZID=UTC:20260720T220000
DTSTAMP:20260423T233247
CREATED:20250112T214551Z
LAST-MODIFIED:20250112T214629Z
UID:10000845-1784574000-1784584800@www.grassrootshouse.org
SUMMARY:CopWatch meeting
DESCRIPTION:
URL:https://www.grassrootshouse.org/event/copwatch-meeting/2026-07-20/
END:VEVENT
BEGIN:VEVENT
DTSTART;TZID=UTC:20260722T190000
DTEND;TZID=UTC:20260722T200000
DTSTAMP:20260423T233247
CREATED:20250112T214354Z
LAST-MODIFIED:20250112T214745Z
UID:10001105-1784746800-1784750400@www.grassrootshouse.org
SUMMARY:TANC (Tenant and Neighborhood Council) meeting
DESCRIPTION:
URL:https://www.grassrootshouse.org/event/tanc-tenant-and-neighborhood-council-meeting-2/2026-07-22/
END:VEVENT
BEGIN:VEVENT
DTSTART;TZID=UTC:20260725T130000
DTEND;TZID=UTC:20260725T143000
DTSTAMP:20260423T233247
CREATED:20260110T172253Z
LAST-MODIFIED:20260110T172253Z
UID:10002836-1784984400-1784989800@www.grassrootshouse.org
SUMMARY:BTU Steering Committee Meeting
DESCRIPTION:
URL:https://www.grassrootshouse.org/event/btu-steering-committee-meeting-2/2026-07-25/
END:VEVENT
BEGIN:VEVENT
DTSTART;TZID=UTC:20260725T143000
DTEND;TZID=UTC:20260725T153000
DTSTAMP:20260423T233247
CREATED:20251002T191317Z
LAST-MODIFIED:20251002T191317Z
UID:10002562-1784989800-1784993400@www.grassrootshouse.org
SUMMARY:Berkeley Tenant Organizing Task Force Meeting (BTU)
DESCRIPTION:
URL:https://www.grassrootshouse.org/event/berkeley-tenant-organizing-task-force-meeting-btu-4/2026-07-25/
END:VEVENT
BEGIN:VEVENT
DTSTART;TZID=UTC:20260726T110000
DTEND;TZID=UTC:20260726T130000
DTSTAMP:20260423T233247
CREATED:20250121T190248Z
LAST-MODIFIED:20260121T050440Z
UID:10001413-1785063600-1785070800@www.grassrootshouse.org
SUMMARY:Berkeley Tenants Union
DESCRIPTION:
URL:https://www.grassrootshouse.org/event/berkeley-tenants-union/2026-07-26/
ORGANIZER;CN="Berkeley Tenants Union":MAILTO:info@berkeleytenants.org
END:VEVENT
BEGIN:VEVENT
DTSTART;TZID=UTC:20260726T130000
DTEND;TZID=UTC:20260726T143000
DTSTAMP:20260423T233247
CREATED:20250112T214510Z
LAST-MODIFIED:20251210T030905Z
UID:10001354-1785070800-1785076200@www.grassrootshouse.org
SUMMARY:Black Rose Study Group
DESCRIPTION:
URL:https://www.grassrootshouse.org/event/black-rose-study-group/2026-07-26/
END:VEVENT
BEGIN:VEVENT
DTSTART;TZID=UTC:20260727T190000
DTEND;TZID=UTC:20260727T220000
DTSTAMP:20260423T233247
CREATED:20250112T214551Z
LAST-MODIFIED:20250112T214629Z
UID:10000846-1785178800-1785189600@www.grassrootshouse.org
SUMMARY:CopWatch meeting
DESCRIPTION:
URL:https://www.grassrootshouse.org/event/copwatch-meeting/2026-07-27/
END:VEVENT
BEGIN:VEVENT
DTSTART;TZID=UTC:20260802T130000
DTEND;TZID=UTC:20260802T203000
DTSTAMP:20260423T233247
CREATED:20260405T193106Z
LAST-MODIFIED:20260405T193106Z
UID:10002944-1785675600-1785702600@www.grassrootshouse.org
SUMMARY:924 Gilman event (private)
DESCRIPTION:
URL:https://www.grassrootshouse.org/event/924-gilman-event-private/
END:VEVENT
BEGIN:VEVENT
DTSTART;TZID=UTC:20260803T190000
DTEND;TZID=UTC:20260803T220000
DTSTAMP:20260423T233247
CREATED:20250112T214551Z
LAST-MODIFIED:20250112T214629Z
UID:10000847-1785783600-1785794400@www.grassrootshouse.org
SUMMARY:CopWatch meeting
DESCRIPTION:
URL:https://www.grassrootshouse.org/event/copwatch-meeting/2026-08-03/
END:VEVENT
BEGIN:VEVENT
DTSTART;TZID=UTC:20260806T180000
DTEND;TZID=UTC:20260806T220000
DTSTAMP:20260423T233247
CREATED:20250606T005258Z
LAST-MODIFIED:20250606T005258Z
UID:10001761-1786039200-1786053600@www.grassrootshouse.org
SUMMARY:IWW Meeting
DESCRIPTION:
URL:https://www.grassrootshouse.org/event/iww-meeting-5/2026-08-06/
END:VEVENT
BEGIN:VEVENT
DTSTART;TZID=UTC:20260808T100000
DTEND;TZID=UTC:20260808T130000
DTSTAMP:20260423T233247
CREATED:20260108T232000Z
LAST-MODIFIED:20260108T232000Z
UID:10002749-1786183200-1786194000@www.grassrootshouse.org
SUMMARY:Copwatch Neighborhood Patrols
DESCRIPTION:
URL:https://www.grassrootshouse.org/event/copwatch-neighborhood-patrols-2/2026-08-08/
END:VEVENT
BEGIN:VEVENT
DTSTART;TZID=UTC:20260808T130000
DTEND;TZID=UTC:20260808T143000
DTSTAMP:20260423T233247
CREATED:20260110T172048Z
LAST-MODIFIED:20260110T172048Z
UID:10002769-1786194000-1786199400@www.grassrootshouse.org
SUMMARY:BTU Steering Committee Meeting
DESCRIPTION:
URL:https://www.grassrootshouse.org/event/btu-steering-committee-meeting/2026-08-08/
END:VEVENT
BEGIN:VEVENT
DTSTART;TZID=UTC:20260808T150000
DTEND;TZID=UTC:20260808T160000
DTSTAMP:20260423T233247
CREATED:20251002T191022Z
LAST-MODIFIED:20251002T191022Z
UID:10002443-1786201200-1786204800@www.grassrootshouse.org
SUMMARY:Berkeley Tenant Organizing Task Force Meeting (BTU)
DESCRIPTION:
URL:https://www.grassrootshouse.org/event/berkeley-tenant-organizing-task-force-meeting-btu-3/2026-08-08/
END:VEVENT
BEGIN:VEVENT
DTSTART;TZID=UTC:20260810T190000
DTEND;TZID=UTC:20260810T220000
DTSTAMP:20260423T233247
CREATED:20250112T214551Z
LAST-MODIFIED:20250112T214629Z
UID:10000848-1786388400-1786399200@www.grassrootshouse.org
SUMMARY:CopWatch meeting
DESCRIPTION:
URL:https://www.grassrootshouse.org/event/copwatch-meeting/2026-08-10/
END:VEVENT
BEGIN:VEVENT
DTSTART;TZID=UTC:20260811T190000
DTEND;TZID=UTC:20260811T200000
DTSTAMP:20260423T233247
CREATED:20250112T213551Z
LAST-MODIFIED:20250112T214850Z
UID:10001227-1786474800-1786478400@www.grassrootshouse.org
SUMMARY:Grassroots House monthly house meeting
DESCRIPTION:
URL:https://www.grassrootshouse.org/event/grassroots-house-monthly-house-meeting/2026-08-11/
END:VEVENT
BEGIN:VEVENT
DTSTART;TZID=UTC:20260812T190000
DTEND;TZID=UTC:20260812T200000
DTSTAMP:20260423T233247
CREATED:20250112T214329Z
LAST-MODIFIED:20250112T214813Z
UID:10001166-1786561200-1786564800@www.grassrootshouse.org
SUMMARY:TANC (Tenant and Neighborhood Council) meeting
DESCRIPTION:
URL:https://www.grassrootshouse.org/event/tanc-tenant-and-neighborhood-council-meeting/2026-08-12/
END:VEVENT
BEGIN:VEVENT
DTSTART;TZID=UTC:20260816T160000
DTEND;TZID=UTC:20260816T180000
DTSTAMP:20260423T233247
CREATED:20250115T211243Z
LAST-MODIFIED:20250517T024732Z
UID:10001292-1786896000-1786903200@www.grassrootshouse.org
SUMMARY:Berkeley Tenants Union Membership Meeting
DESCRIPTION:Join us the third Sunday of every month from 4:00pm to 5:30pm for our regular membership meeting and potluck! \nYou can sign-up for our email list at bit.ly/BerkeleyTenants.
URL:https://www.grassrootshouse.org/event/berkeley-tenants-union-membership-meeting/2026-08-16/
ATTACH;FMTTYPE=image/jpeg:https://www.grassrootshouse.org/wp-content/uploads/2025/01/Third-Sunday-of-the-Month.jpg
ORGANIZER;CN="Berkeley Tenants Union":MAILTO:info@berkeleytenants.org
END:VEVENT
BEGIN:VEVENT
DTSTART;TZID=UTC:20260817T190000
DTEND;TZID=UTC:20260817T220000
DTSTAMP:20260423T233247
CREATED:20250112T214551Z
LAST-MODIFIED:20250112T214629Z
UID:10000849-1786993200-1787004000@www.grassrootshouse.org
SUMMARY:CopWatch meeting
DESCRIPTION:
URL:https://www.grassrootshouse.org/event/copwatch-meeting/2026-08-17/
END:VEVENT
BEGIN:VEVENT
DTSTART;TZID=UTC:20260822T130000
DTEND;TZID=UTC:20260822T143000
DTSTAMP:20260423T233247
CREATED:20260110T172253Z
LAST-MODIFIED:20260110T172253Z
UID:10002837-1787403600-1787409000@www.grassrootshouse.org
SUMMARY:BTU Steering Committee Meeting
DESCRIPTION:
URL:https://www.grassrootshouse.org/event/btu-steering-committee-meeting-2/2026-08-22/
END:VEVENT
BEGIN:VEVENT
DTSTART;TZID=UTC:20260822T143000
DTEND;TZID=UTC:20260822T153000
DTSTAMP:20260423T233247
CREATED:20251002T191317Z
LAST-MODIFIED:20251002T191317Z
UID:10002563-1787409000-1787412600@www.grassrootshouse.org
SUMMARY:Berkeley Tenant Organizing Task Force Meeting (BTU)
DESCRIPTION:
URL:https://www.grassrootshouse.org/event/berkeley-tenant-organizing-task-force-meeting-btu-4/2026-08-22/
END:VEVENT
BEGIN:VEVENT
DTSTART;TZID=UTC:20260823T110000
DTEND;TZID=UTC:20260823T130000
DTSTAMP:20260423T233247
CREATED:20250121T190248Z
LAST-MODIFIED:20260121T050440Z
UID:10001414-1787482800-1787490000@www.grassrootshouse.org
SUMMARY:Berkeley Tenants Union
DESCRIPTION:
URL:https://www.grassrootshouse.org/event/berkeley-tenants-union/2026-08-23/
ORGANIZER;CN="Berkeley Tenants Union":MAILTO:info@berkeleytenants.org
END:VEVENT
BEGIN:VEVENT
DTSTART;TZID=UTC:20260824T190000
DTEND;TZID=UTC:20260824T220000
DTSTAMP:20260423T233247
CREATED:20250112T214551Z
LAST-MODIFIED:20250112T214629Z
UID:10000850-1787598000-1787608800@www.grassrootshouse.org
SUMMARY:CopWatch meeting
DESCRIPTION:
URL:https://www.grassrootshouse.org/event/copwatch-meeting/2026-08-24/
END:VEVENT
BEGIN:VEVENT
DTSTART;TZID=UTC:20260826T190000
DTEND;TZID=UTC:20260826T200000
DTSTAMP:20260423T233247
CREATED:20250112T214354Z
LAST-MODIFIED:20250112T214745Z
UID:10001106-1787770800-1787774400@www.grassrootshouse.org
SUMMARY:TANC (Tenant and Neighborhood Council) meeting
DESCRIPTION:
URL:https://www.grassrootshouse.org/event/tanc-tenant-and-neighborhood-council-meeting-2/2026-08-26/
END:VEVENT
END:VCALENDAR