BEGIN:VCALENDAR
VERSION:2.0
PRODID:-//Grassroots House - ECPv6.15.17.1//NONSGML v1.0//EN
CALSCALE:GREGORIAN
METHOD:PUBLISH
X-WR-CALNAME:Grassroots House
X-ORIGINAL-URL:https://www.grassrootshouse.org
X-WR-CALDESC:Events for Grassroots House
REFRESH-INTERVAL;VALUE=DURATION:PT1H
X-Robots-Tag:noindex
X-PUBLISHED-TTL:PT1H
BEGIN:VTIMEZONE
TZID:UTC
BEGIN:STANDARD
TZOFFSETFROM:+0000
TZOFFSETTO:+0000
TZNAME:UTC
DTSTART:20250101T000000
END:STANDARD
END:VTIMEZONE
BEGIN:VEVENT
DTSTART;TZID=UTC:20260504T090000
DTEND;TZID=UTC:20260504T123000
DTSTAMP:20260423T151215
CREATED:20260406T090122Z
LAST-MODIFIED:20260419T234121Z
UID:10002952-1777885200-1777897800@www.grassrootshouse.org
SUMMARY:IWW IU 410 Textile Workers
DESCRIPTION:
URL:https://www.grassrootshouse.org/event/iww-iu-410-textile-workers-2/2026-05-04/
LOCATION:Back Room
END:VEVENT
BEGIN:VEVENT
DTSTART;TZID=UTC:20260504T190000
DTEND;TZID=UTC:20260504T220000
DTSTAMP:20260423T151215
CREATED:20250112T214551Z
LAST-MODIFIED:20250112T214629Z
UID:10000834-1777921200-1777932000@www.grassrootshouse.org
SUMMARY:CopWatch meeting
DESCRIPTION:
URL:https://www.grassrootshouse.org/event/copwatch-meeting/2026-05-04/
END:VEVENT
BEGIN:VEVENT
DTSTART;TZID=UTC:20260507T180000
DTEND;TZID=UTC:20260507T220000
DTSTAMP:20260423T151215
CREATED:20250606T005258Z
LAST-MODIFIED:20250606T005258Z
UID:10001758-1778176800-1778191200@www.grassrootshouse.org
SUMMARY:IWW Meeting
DESCRIPTION:
URL:https://www.grassrootshouse.org/event/iww-meeting-5/2026-05-07/
END:VEVENT
BEGIN:VEVENT
DTSTART;TZID=UTC:20260509T100000
DTEND;TZID=UTC:20260509T130000
DTSTAMP:20260423T151215
CREATED:20260108T232000Z
LAST-MODIFIED:20260108T232000Z
UID:10002746-1778320800-1778331600@www.grassrootshouse.org
SUMMARY:Copwatch Neighborhood Patrols
DESCRIPTION:
URL:https://www.grassrootshouse.org/event/copwatch-neighborhood-patrols-2/2026-05-09/
END:VEVENT
BEGIN:VEVENT
DTSTART;TZID=UTC:20260509T130000
DTEND;TZID=UTC:20260509T143000
DTSTAMP:20260423T151215
CREATED:20260110T172048Z
LAST-MODIFIED:20260110T172048Z
UID:10002766-1778331600-1778337000@www.grassrootshouse.org
SUMMARY:BTU Steering Committee Meeting
DESCRIPTION:
URL:https://www.grassrootshouse.org/event/btu-steering-committee-meeting/2026-05-09/
END:VEVENT
BEGIN:VEVENT
DTSTART;TZID=UTC:20260509T150000
DTEND;TZID=UTC:20260509T160000
DTSTAMP:20260423T151215
CREATED:20251002T191022Z
LAST-MODIFIED:20251002T191022Z
UID:10002440-1778338800-1778342400@www.grassrootshouse.org
SUMMARY:Berkeley Tenant Organizing Task Force Meeting (BTU)
DESCRIPTION:
URL:https://www.grassrootshouse.org/event/berkeley-tenant-organizing-task-force-meeting-btu-3/2026-05-09/
END:VEVENT
BEGIN:VEVENT
DTSTART;TZID=UTC:20260511T190000
DTEND;TZID=UTC:20260511T220000
DTSTAMP:20260423T151215
CREATED:20250112T214551Z
LAST-MODIFIED:20250112T214629Z
UID:10000835-1778526000-1778536800@www.grassrootshouse.org
SUMMARY:CopWatch meeting
DESCRIPTION:
URL:https://www.grassrootshouse.org/event/copwatch-meeting/2026-05-11/
END:VEVENT
BEGIN:VEVENT
DTSTART;TZID=UTC:20260512T190000
DTEND;TZID=UTC:20260512T200000
DTSTAMP:20260423T151215
CREATED:20250112T213551Z
LAST-MODIFIED:20250112T214850Z
UID:10001224-1778612400-1778616000@www.grassrootshouse.org
SUMMARY:Grassroots House monthly house meeting
DESCRIPTION:
URL:https://www.grassrootshouse.org/event/grassroots-house-monthly-house-meeting/2026-05-12/
END:VEVENT
BEGIN:VEVENT
DTSTART;TZID=UTC:20260513T190000
DTEND;TZID=UTC:20260513T200000
DTSTAMP:20260423T151215
CREATED:20250112T214329Z
LAST-MODIFIED:20250112T214813Z
UID:10001163-1778698800-1778702400@www.grassrootshouse.org
SUMMARY:TANC (Tenant and Neighborhood Council) meeting
DESCRIPTION:
URL:https://www.grassrootshouse.org/event/tanc-tenant-and-neighborhood-council-meeting/2026-05-13/
END:VEVENT
BEGIN:VEVENT
DTSTART;TZID=UTC:20260516T160000
DTEND;TZID=UTC:20260516T190000
DTSTAMP:20260423T151215
CREATED:20260419T200633Z
LAST-MODIFIED:20260419T200633Z
UID:10002950-1778947200-1778958000@www.grassrootshouse.org
SUMMARY:Bay Area IWW Planning Meeting
DESCRIPTION:
URL:https://www.grassrootshouse.org/event/bay-area-iww-planning-meeting/
END:VEVENT
BEGIN:VEVENT
DTSTART;TZID=UTC:20260517T160000
DTEND;TZID=UTC:20260517T180000
DTSTAMP:20260423T151215
CREATED:20250115T211243Z
LAST-MODIFIED:20250517T024732Z
UID:10001289-1779033600-1779040800@www.grassrootshouse.org
SUMMARY:Berkeley Tenants Union Membership Meeting
DESCRIPTION:Join us the third Sunday of every month from 4:00pm to 5:30pm for our regular membership meeting and potluck! \nYou can sign-up for our email list at bit.ly/BerkeleyTenants.
URL:https://www.grassrootshouse.org/event/berkeley-tenants-union-membership-meeting/2026-05-17/
ATTACH;FMTTYPE=image/jpeg:https://www.grassrootshouse.org/wp-content/uploads/2025/01/Third-Sunday-of-the-Month.jpg
ORGANIZER;CN="Berkeley Tenants Union":MAILTO:info@berkeleytenants.org
END:VEVENT
BEGIN:VEVENT
DTSTART;TZID=UTC:20260518T090000
DTEND;TZID=UTC:20260518T123000
DTSTAMP:20260423T151215
CREATED:20260406T090122Z
LAST-MODIFIED:20260419T234121Z
UID:10002953-1779094800-1779107400@www.grassrootshouse.org
SUMMARY:IWW IU 410 Textile Workers
DESCRIPTION:
URL:https://www.grassrootshouse.org/event/iww-iu-410-textile-workers-2/2026-05-18/
LOCATION:Back Room
END:VEVENT
BEGIN:VEVENT
DTSTART;TZID=UTC:20260518T190000
DTEND;TZID=UTC:20260518T220000
DTSTAMP:20260423T151215
CREATED:20250112T214551Z
LAST-MODIFIED:20250112T214629Z
UID:10000836-1779130800-1779141600@www.grassrootshouse.org
SUMMARY:CopWatch meeting
DESCRIPTION:
URL:https://www.grassrootshouse.org/event/copwatch-meeting/2026-05-18/
END:VEVENT
BEGIN:VEVENT
DTSTART;TZID=UTC:20260523T130000
DTEND;TZID=UTC:20260523T143000
DTSTAMP:20260423T151215
CREATED:20260110T172253Z
LAST-MODIFIED:20260110T172253Z
UID:10002834-1779541200-1779546600@www.grassrootshouse.org
SUMMARY:BTU Steering Committee Meeting
DESCRIPTION:
URL:https://www.grassrootshouse.org/event/btu-steering-committee-meeting-2/2026-05-23/
END:VEVENT
BEGIN:VEVENT
DTSTART;TZID=UTC:20260523T143000
DTEND;TZID=UTC:20260523T153000
DTSTAMP:20260423T151215
CREATED:20251002T191317Z
LAST-MODIFIED:20251002T191317Z
UID:10002560-1779546600-1779550200@www.grassrootshouse.org
SUMMARY:Berkeley Tenant Organizing Task Force Meeting (BTU)
DESCRIPTION:
URL:https://www.grassrootshouse.org/event/berkeley-tenant-organizing-task-force-meeting-btu-4/2026-05-23/
END:VEVENT
BEGIN:VEVENT
DTSTART;TZID=UTC:20260523T180000
DTEND;TZID=UTC:20260523T210000
DTSTAMP:20260423T151215
CREATED:20260316T232019Z
LAST-MODIFIED:20260316T232019Z
UID:10002937-1779559200-1779570000@www.grassrootshouse.org
SUMMARY:Who Bombed Judi Bari? (Screening)
DESCRIPTION:Come honor Judi Bari Day with the Bay Area IWW\, Earth First!\, and allies.
URL:https://www.grassrootshouse.org/event/who-bombed-judi-bari-screening/
END:VEVENT
BEGIN:VEVENT
DTSTART;TZID=UTC:20260524T110000
DTEND;TZID=UTC:20260524T130000
DTSTAMP:20260423T151215
CREATED:20250121T190248Z
LAST-MODIFIED:20260121T050440Z
UID:10001411-1779620400-1779627600@www.grassrootshouse.org
SUMMARY:Berkeley Tenants Union
DESCRIPTION:
URL:https://www.grassrootshouse.org/event/berkeley-tenants-union/2026-05-24/
ORGANIZER;CN="Berkeley Tenants Union":MAILTO:info@berkeleytenants.org
END:VEVENT
BEGIN:VEVENT
DTSTART;TZID=UTC:20260525T190000
DTEND;TZID=UTC:20260525T220000
DTSTAMP:20260423T151215
CREATED:20250112T214551Z
LAST-MODIFIED:20250112T214629Z
UID:10000837-1779735600-1779746400@www.grassrootshouse.org
SUMMARY:CopWatch meeting
DESCRIPTION:
URL:https://www.grassrootshouse.org/event/copwatch-meeting/2026-05-25/
END:VEVENT
BEGIN:VEVENT
DTSTART;TZID=UTC:20260527T190000
DTEND;TZID=UTC:20260527T200000
DTSTAMP:20260423T151215
CREATED:20250112T214354Z
LAST-MODIFIED:20250112T214745Z
UID:10001103-1779908400-1779912000@www.grassrootshouse.org
SUMMARY:TANC (Tenant and Neighborhood Council) meeting
DESCRIPTION:
URL:https://www.grassrootshouse.org/event/tanc-tenant-and-neighborhood-council-meeting-2/2026-05-27/
END:VEVENT
BEGIN:VEVENT
DTSTART;TZID=UTC:20260531T130000
DTEND;TZID=UTC:20260531T143000
DTSTAMP:20260423T151215
CREATED:20250112T214510Z
LAST-MODIFIED:20251210T030905Z
UID:10002712-1780232400-1780237800@www.grassrootshouse.org
SUMMARY:Black Rose Study Group
DESCRIPTION:
URL:https://www.grassrootshouse.org/event/black-rose-study-group/2026-05-31/
END:VEVENT
BEGIN:VEVENT
DTSTART;TZID=UTC:20260601T190000
DTEND;TZID=UTC:20260601T220000
DTSTAMP:20260423T151215
CREATED:20250112T214551Z
LAST-MODIFIED:20250112T214629Z
UID:10000838-1780340400-1780351200@www.grassrootshouse.org
SUMMARY:CopWatch meeting
DESCRIPTION:
URL:https://www.grassrootshouse.org/event/copwatch-meeting/2026-06-01/
END:VEVENT
BEGIN:VEVENT
DTSTART;TZID=UTC:20260604T180000
DTEND;TZID=UTC:20260604T220000
DTSTAMP:20260423T151215
CREATED:20250606T005258Z
LAST-MODIFIED:20250606T005258Z
UID:10001759-1780596000-1780610400@www.grassrootshouse.org
SUMMARY:IWW Meeting
DESCRIPTION:
URL:https://www.grassrootshouse.org/event/iww-meeting-5/2026-06-04/
END:VEVENT
BEGIN:VEVENT
DTSTART;TZID=UTC:20260608T190000
DTEND;TZID=UTC:20260608T220000
DTSTAMP:20260423T151215
CREATED:20250112T214551Z
LAST-MODIFIED:20250112T214629Z
UID:10000839-1780945200-1780956000@www.grassrootshouse.org
SUMMARY:CopWatch meeting
DESCRIPTION:
URL:https://www.grassrootshouse.org/event/copwatch-meeting/2026-06-08/
END:VEVENT
BEGIN:VEVENT
DTSTART;TZID=UTC:20260609T190000
DTEND;TZID=UTC:20260609T200000
DTSTAMP:20260423T151215
CREATED:20250112T213551Z
LAST-MODIFIED:20250112T214850Z
UID:10001225-1781031600-1781035200@www.grassrootshouse.org
SUMMARY:Grassroots House monthly house meeting
DESCRIPTION:
URL:https://www.grassrootshouse.org/event/grassroots-house-monthly-house-meeting/2026-06-09/
END:VEVENT
BEGIN:VEVENT
DTSTART;TZID=UTC:20260610T190000
DTEND;TZID=UTC:20260610T200000
DTSTAMP:20260423T151215
CREATED:20250112T214329Z
LAST-MODIFIED:20250112T214813Z
UID:10001164-1781118000-1781121600@www.grassrootshouse.org
SUMMARY:TANC (Tenant and Neighborhood Council) meeting
DESCRIPTION:
URL:https://www.grassrootshouse.org/event/tanc-tenant-and-neighborhood-council-meeting/2026-06-10/
END:VEVENT
BEGIN:VEVENT
DTSTART;TZID=UTC:20260613T100000
DTEND;TZID=UTC:20260613T130000
DTSTAMP:20260423T151215
CREATED:20260108T232000Z
LAST-MODIFIED:20260108T232000Z
UID:10002747-1781344800-1781355600@www.grassrootshouse.org
SUMMARY:Copwatch Neighborhood Patrols
DESCRIPTION:
URL:https://www.grassrootshouse.org/event/copwatch-neighborhood-patrols-2/2026-06-13/
END:VEVENT
BEGIN:VEVENT
DTSTART;TZID=UTC:20260613T130000
DTEND;TZID=UTC:20260613T143000
DTSTAMP:20260423T151215
CREATED:20260110T172048Z
LAST-MODIFIED:20260110T172048Z
UID:10002767-1781355600-1781361000@www.grassrootshouse.org
SUMMARY:BTU Steering Committee Meeting
DESCRIPTION:
URL:https://www.grassrootshouse.org/event/btu-steering-committee-meeting/2026-06-13/
END:VEVENT
BEGIN:VEVENT
DTSTART;TZID=UTC:20260613T150000
DTEND;TZID=UTC:20260613T160000
DTSTAMP:20260423T151215
CREATED:20251002T191022Z
LAST-MODIFIED:20251002T191022Z
UID:10002441-1781362800-1781366400@www.grassrootshouse.org
SUMMARY:Berkeley Tenant Organizing Task Force Meeting (BTU)
DESCRIPTION:
URL:https://www.grassrootshouse.org/event/berkeley-tenant-organizing-task-force-meeting-btu-3/2026-06-13/
END:VEVENT
BEGIN:VEVENT
DTSTART;TZID=UTC:20260615T190000
DTEND;TZID=UTC:20260615T220000
DTSTAMP:20260423T151215
CREATED:20250112T214551Z
LAST-MODIFIED:20250112T214629Z
UID:10000840-1781550000-1781560800@www.grassrootshouse.org
SUMMARY:CopWatch meeting
DESCRIPTION:
URL:https://www.grassrootshouse.org/event/copwatch-meeting/2026-06-15/
END:VEVENT
BEGIN:VEVENT
DTSTART;TZID=UTC:20260621T160000
DTEND;TZID=UTC:20260621T180000
DTSTAMP:20260423T151215
CREATED:20250115T211243Z
LAST-MODIFIED:20250517T024732Z
UID:10001290-1782057600-1782064800@www.grassrootshouse.org
SUMMARY:Berkeley Tenants Union Membership Meeting
DESCRIPTION:Join us the third Sunday of every month from 4:00pm to 5:30pm for our regular membership meeting and potluck! \nYou can sign-up for our email list at bit.ly/BerkeleyTenants.
URL:https://www.grassrootshouse.org/event/berkeley-tenants-union-membership-meeting/2026-06-21/
ATTACH;FMTTYPE=image/jpeg:https://www.grassrootshouse.org/wp-content/uploads/2025/01/Third-Sunday-of-the-Month.jpg
ORGANIZER;CN="Berkeley Tenants Union":MAILTO:info@berkeleytenants.org
END:VEVENT
END:VCALENDAR