BEGIN:VCALENDAR
VERSION:2.0
PRODID:-//Grassroots House - ECPv6.15.17.1//NONSGML v1.0//EN
CALSCALE:GREGORIAN
METHOD:PUBLISH
X-ORIGINAL-URL:https://www.grassrootshouse.org
X-WR-CALDESC:Events for Grassroots House
REFRESH-INTERVAL;VALUE=DURATION:PT1H
X-Robots-Tag:noindex
X-PUBLISHED-TTL:PT1H
BEGIN:VTIMEZONE
TZID:UTC
BEGIN:STANDARD
TZOFFSETFROM:+0000
TZOFFSETTO:+0000
TZNAME:UTC
DTSTART:20250101T000000
END:STANDARD
END:VTIMEZONE
BEGIN:VEVENT
DTSTART;TZID=UTC:20260402T180000
DTEND;TZID=UTC:20260402T220000
DTSTAMP:20260423T115641
CREATED:20250606T005258Z
LAST-MODIFIED:20250606T005258Z
UID:10001757-1775152800-1775167200@www.grassrootshouse.org
SUMMARY:IWW Meeting
DESCRIPTION:
URL:https://www.grassrootshouse.org/event/iww-meeting-5/2026-04-02/
END:VEVENT
BEGIN:VEVENT
DTSTART;TZID=UTC:20260404T160000
DTEND;TZID=UTC:20260404T190000
DTSTAMP:20260423T115641
CREATED:20260316T231748Z
LAST-MODIFIED:20260316T232055Z
UID:10002936-1775318400-1775329200@www.grassrootshouse.org
SUMMARY:IWW Planning Meeting
DESCRIPTION:
URL:https://www.grassrootshouse.org/event/iww-planning-meeting/
END:VEVENT
BEGIN:VEVENT
DTSTART;TZID=UTC:20260405T110000
DTEND;TZID=UTC:20260405T130000
DTSTAMP:20260423T115641
CREATED:20260331T051601Z
LAST-MODIFIED:20260331T051601Z
UID:10002941-1775386800-1775394000@www.grassrootshouse.org
SUMMARY:Berkeley Tenants Union
DESCRIPTION:
URL:https://www.grassrootshouse.org/event/berkeley-tenants-union-6/
END:VEVENT
BEGIN:VEVENT
DTSTART;TZID=UTC:20260406T090000
DTEND;TZID=UTC:20260406T123000
DTSTAMP:20260423T115641
CREATED:20260406T090122Z
LAST-MODIFIED:20260419T234121Z
UID:10002945-1775466000-1775478600@www.grassrootshouse.org
SUMMARY:IWW IU 410 Textile Workers
DESCRIPTION:
URL:https://www.grassrootshouse.org/event/iww-iu-410-textile-workers-2/2026-04-06/
LOCATION:Back Room
END:VEVENT
BEGIN:VEVENT
DTSTART;TZID=UTC:20260406T190000
DTEND;TZID=UTC:20260406T220000
DTSTAMP:20260423T115641
CREATED:20250112T214551Z
LAST-MODIFIED:20250112T214629Z
UID:10000830-1775502000-1775512800@www.grassrootshouse.org
SUMMARY:CopWatch meeting
DESCRIPTION:
URL:https://www.grassrootshouse.org/event/copwatch-meeting/2026-04-06/
END:VEVENT
BEGIN:VEVENT
DTSTART;TZID=UTC:20260408T190000
DTEND;TZID=UTC:20260408T200000
DTSTAMP:20260423T115641
CREATED:20250112T214329Z
LAST-MODIFIED:20250112T214813Z
UID:10001162-1775674800-1775678400@www.grassrootshouse.org
SUMMARY:TANC (Tenant and Neighborhood Council) meeting
DESCRIPTION:
URL:https://www.grassrootshouse.org/event/tanc-tenant-and-neighborhood-council-meeting/2026-04-08/
END:VEVENT
BEGIN:VEVENT
DTSTART;TZID=UTC:20260410T060000
DTEND;TZID=UTC:20260410T220000
DTSTAMP:20260423T115641
CREATED:20260401T172116Z
LAST-MODIFIED:20260401T172116Z
UID:10002942-1775800800-1775858400@www.grassrootshouse.org
SUMMARY:IWW I.U. 620 Education Workers Meeting
DESCRIPTION:
URL:https://www.grassrootshouse.org/event/iww-i-u-620-education-workers-meeting/
END:VEVENT
BEGIN:VEVENT
DTSTART;TZID=UTC:20260411T100000
DTEND;TZID=UTC:20260411T120000
DTSTAMP:20260423T115641
CREATED:20260306T160119Z
LAST-MODIFIED:20260306T160119Z
UID:10002932-1775901600-1775908800@www.grassrootshouse.org
SUMMARY:Rapid responders (Copwatch)
DESCRIPTION:
URL:https://www.grassrootshouse.org/event/rapid-responders-copwatch/2026-04-11/
END:VEVENT
BEGIN:VEVENT
DTSTART;TZID=UTC:20260411T100000
DTEND;TZID=UTC:20260411T130000
DTSTAMP:20260423T115641
CREATED:20260108T232000Z
LAST-MODIFIED:20260108T232000Z
UID:10002745-1775901600-1775912400@www.grassrootshouse.org
SUMMARY:Copwatch Neighborhood Patrols
DESCRIPTION:
URL:https://www.grassrootshouse.org/event/copwatch-neighborhood-patrols-2/2026-04-11/
END:VEVENT
BEGIN:VEVENT
DTSTART;TZID=UTC:20260411T130000
DTEND;TZID=UTC:20260411T143000
DTSTAMP:20260423T115641
CREATED:20260110T172048Z
LAST-MODIFIED:20260110T172048Z
UID:10002765-1775912400-1775917800@www.grassrootshouse.org
SUMMARY:BTU Steering Committee Meeting
DESCRIPTION:
URL:https://www.grassrootshouse.org/event/btu-steering-committee-meeting/2026-04-11/
END:VEVENT
BEGIN:VEVENT
DTSTART;TZID=UTC:20260411T150000
DTEND;TZID=UTC:20260411T160000
DTSTAMP:20260423T115641
CREATED:20251002T191022Z
LAST-MODIFIED:20251002T191022Z
UID:10002439-1775919600-1775923200@www.grassrootshouse.org
SUMMARY:Berkeley Tenant Organizing Task Force Meeting (BTU)
DESCRIPTION:
URL:https://www.grassrootshouse.org/event/berkeley-tenant-organizing-task-force-meeting-btu-3/2026-04-11/
END:VEVENT
BEGIN:VEVENT
DTSTART;TZID=UTC:20260413T190000
DTEND;TZID=UTC:20260413T220000
DTSTAMP:20260423T115641
CREATED:20250112T214551Z
LAST-MODIFIED:20250112T214629Z
UID:10000831-1776106800-1776117600@www.grassrootshouse.org
SUMMARY:CopWatch meeting
DESCRIPTION:
URL:https://www.grassrootshouse.org/event/copwatch-meeting/2026-04-13/
END:VEVENT
BEGIN:VEVENT
DTSTART;TZID=UTC:20260414T170000
DTEND;TZID=UTC:20260414T200000
DTSTAMP:20260423T115641
CREATED:20260412T013528Z
LAST-MODIFIED:20260412T013528Z
UID:10002946-1776186000-1776196800@www.grassrootshouse.org
SUMMARY:Stop Flock Phone Bank
DESCRIPTION:Sponsored by Copwatch
URL:https://www.grassrootshouse.org/event/stop-flock-phone-bank/
END:VEVENT
BEGIN:VEVENT
DTSTART;TZID=UTC:20260414T190000
DTEND;TZID=UTC:20260414T200000
DTSTAMP:20260423T115641
CREATED:20250112T213551Z
LAST-MODIFIED:20250112T214850Z
UID:10001223-1776193200-1776196800@www.grassrootshouse.org
SUMMARY:Grassroots House monthly house meeting
DESCRIPTION:
URL:https://www.grassrootshouse.org/event/grassroots-house-monthly-house-meeting/2026-04-14/
END:VEVENT
BEGIN:VEVENT
DTSTART;TZID=UTC:20260418T160000
DTEND;TZID=UTC:20260418T190000
DTSTAMP:20260423T115641
CREATED:20260405T020029Z
LAST-MODIFIED:20260405T020029Z
UID:10002943-1776528000-1776538800@www.grassrootshouse.org
SUMMARY:2026 IWW Planning Session
DESCRIPTION:
URL:https://www.grassrootshouse.org/event/2026-iww-planning-session/
END:VEVENT
BEGIN:VEVENT
DTSTART;TZID=UTC:20260419T160000
DTEND;TZID=UTC:20260419T180000
DTSTAMP:20260423T115641
CREATED:20250115T211243Z
LAST-MODIFIED:20250517T024732Z
UID:10001288-1776614400-1776621600@www.grassrootshouse.org
SUMMARY:Berkeley Tenants Union Membership Meeting
DESCRIPTION:Join us the third Sunday of every month from 4:00pm to 5:30pm for our regular membership meeting and potluck! \nYou can sign-up for our email list at bit.ly/BerkeleyTenants.
URL:https://www.grassrootshouse.org/event/berkeley-tenants-union-membership-meeting/2026-04-19/
ATTACH;FMTTYPE=image/jpeg:https://www.grassrootshouse.org/wp-content/uploads/2025/01/Third-Sunday-of-the-Month.jpg
ORGANIZER;CN="Berkeley Tenants Union":MAILTO:info@berkeleytenants.org
END:VEVENT
BEGIN:VEVENT
DTSTART;TZID=UTC:20260420T090000
DTEND;TZID=UTC:20260420T123000
DTSTAMP:20260423T115641
CREATED:20260406T090122Z
LAST-MODIFIED:20260419T234121Z
UID:10002951-1776675600-1776688200@www.grassrootshouse.org
SUMMARY:IWW IU 410 Textile Workers
DESCRIPTION:
URL:https://www.grassrootshouse.org/event/iww-iu-410-textile-workers-2/2026-04-20/
LOCATION:Back Room
END:VEVENT
BEGIN:VEVENT
DTSTART;TZID=UTC:20260420T190000
DTEND;TZID=UTC:20260420T220000
DTSTAMP:20260423T115641
CREATED:20250112T214551Z
LAST-MODIFIED:20250112T214629Z
UID:10000832-1776711600-1776722400@www.grassrootshouse.org
SUMMARY:CopWatch meeting
DESCRIPTION:
URL:https://www.grassrootshouse.org/event/copwatch-meeting/2026-04-20/
END:VEVENT
BEGIN:VEVENT
DTSTART;TZID=UTC:20260422T190000
DTEND;TZID=UTC:20260422T200000
DTSTAMP:20260423T115641
CREATED:20250112T214354Z
LAST-MODIFIED:20250112T214745Z
UID:10001102-1776884400-1776888000@www.grassrootshouse.org
SUMMARY:TANC (Tenant and Neighborhood Council) meeting
DESCRIPTION:
URL:https://www.grassrootshouse.org/event/tanc-tenant-and-neighborhood-council-meeting-2/2026-04-22/
END:VEVENT
BEGIN:VEVENT
DTSTART;TZID=UTC:20260423T170000
DTEND;TZID=UTC:20260423T200000
DTSTAMP:20260423T115641
CREATED:20260412T014213Z
LAST-MODIFIED:20260412T014213Z
UID:10002947-1776963600-1776974400@www.grassrootshouse.org
SUMMARY:Stop Flock Phone Bank
DESCRIPTION:Sponsored by Copwatch
URL:https://www.grassrootshouse.org/event/stop-flock-phone-bank-2/
END:VEVENT
BEGIN:VEVENT
DTSTART;TZID=UTC:20260425T100000
DTEND;TZID=UTC:20260425T120000
DTSTAMP:20260423T115641
CREATED:20260306T160119Z
LAST-MODIFIED:20260306T160119Z
UID:10002933-1777111200-1777118400@www.grassrootshouse.org
SUMMARY:Rapid responders (Copwatch)
DESCRIPTION:
URL:https://www.grassrootshouse.org/event/rapid-responders-copwatch/2026-04-25/
END:VEVENT
BEGIN:VEVENT
DTSTART;TZID=UTC:20260425T100000
DTEND;TZID=UTC:20260425T130000
DTSTAMP:20260423T115641
CREATED:20260412T014346Z
LAST-MODIFIED:20260412T014346Z
UID:10002948-1777111200-1777122000@www.grassrootshouse.org
SUMMARY:Stop Flock Phone Bank
DESCRIPTION:Spnsored by Copwatch
URL:https://www.grassrootshouse.org/event/stop-flock-phone-bank-3/
END:VEVENT
BEGIN:VEVENT
DTSTART;TZID=UTC:20260425T130000
DTEND;TZID=UTC:20260425T143000
DTSTAMP:20260423T115641
CREATED:20260110T172253Z
LAST-MODIFIED:20260110T172253Z
UID:10002833-1777122000-1777127400@www.grassrootshouse.org
SUMMARY:BTU Steering Committee Meeting
DESCRIPTION:
URL:https://www.grassrootshouse.org/event/btu-steering-committee-meeting-2/2026-04-25/
END:VEVENT
BEGIN:VEVENT
DTSTART;TZID=UTC:20260425T143000
DTEND;TZID=UTC:20260425T153000
DTSTAMP:20260423T115641
CREATED:20251002T191317Z
LAST-MODIFIED:20251002T191317Z
UID:10002559-1777127400-1777131000@www.grassrootshouse.org
SUMMARY:Berkeley Tenant Organizing Task Force Meeting (BTU)
DESCRIPTION:
URL:https://www.grassrootshouse.org/event/berkeley-tenant-organizing-task-force-meeting-btu-4/2026-04-25/
END:VEVENT
BEGIN:VEVENT
DTSTART;TZID=UTC:20260426T110000
DTEND;TZID=UTC:20260426T130000
DTSTAMP:20260423T115641
CREATED:20250121T190248Z
LAST-MODIFIED:20260121T050440Z
UID:10001410-1777201200-1777208400@www.grassrootshouse.org
SUMMARY:Berkeley Tenants Union
DESCRIPTION:
URL:https://www.grassrootshouse.org/event/berkeley-tenants-union/2026-04-26/
ORGANIZER;CN="Berkeley Tenants Union":MAILTO:info@berkeleytenants.org
END:VEVENT
BEGIN:VEVENT
DTSTART;TZID=UTC:20260426T130000
DTEND;TZID=UTC:20260426T143000
DTSTAMP:20260423T115641
CREATED:20250112T214510Z
LAST-MODIFIED:20251210T030905Z
UID:10001351-1777208400-1777213800@www.grassrootshouse.org
SUMMARY:Black Rose Study Group
DESCRIPTION:
URL:https://www.grassrootshouse.org/event/black-rose-study-group/2026-04-26/
END:VEVENT
BEGIN:VEVENT
DTSTART;TZID=UTC:20260427T190000
DTEND;TZID=UTC:20260427T220000
DTSTAMP:20260423T115641
CREATED:20250112T214551Z
LAST-MODIFIED:20250112T214629Z
UID:10000833-1777316400-1777327200@www.grassrootshouse.org
SUMMARY:CopWatch meeting
DESCRIPTION:
URL:https://www.grassrootshouse.org/event/copwatch-meeting/2026-04-27/
END:VEVENT
BEGIN:VEVENT
DTSTART;TZID=UTC:20260428T170000
DTEND;TZID=UTC:20260428T200000
DTSTAMP:20260423T115641
CREATED:20260412T014510Z
LAST-MODIFIED:20260412T015507Z
UID:10002949-1777395600-1777406400@www.grassrootshouse.org
SUMMARY:STop Flock Phone Bank
DESCRIPTION:Spnsored by Copwatch
URL:https://www.grassrootshouse.org/event/stop-flock-phone-bank-4/
END:VEVENT
BEGIN:VEVENT
DTSTART;TZID=UTC:20260504T090000
DTEND;TZID=UTC:20260504T123000
DTSTAMP:20260423T115641
CREATED:20260406T090122Z
LAST-MODIFIED:20260419T234121Z
UID:10002952-1777885200-1777897800@www.grassrootshouse.org
SUMMARY:IWW IU 410 Textile Workers
DESCRIPTION:
URL:https://www.grassrootshouse.org/event/iww-iu-410-textile-workers-2/2026-05-04/
LOCATION:Back Room
END:VEVENT
BEGIN:VEVENT
DTSTART;TZID=UTC:20260504T190000
DTEND;TZID=UTC:20260504T220000
DTSTAMP:20260423T115641
CREATED:20250112T214551Z
LAST-MODIFIED:20250112T214629Z
UID:10000834-1777921200-1777932000@www.grassrootshouse.org
SUMMARY:CopWatch meeting
DESCRIPTION:
URL:https://www.grassrootshouse.org/event/copwatch-meeting/2026-05-04/
END:VEVENT
END:VCALENDAR