BEGIN:VCALENDAR
VERSION:2.0
PRODID:-//Grassroots House - ECPv6.15.17.1//NONSGML v1.0//EN
CALSCALE:GREGORIAN
METHOD:PUBLISH
X-WR-CALNAME:Grassroots House
X-ORIGINAL-URL:https://www.grassrootshouse.org
X-WR-CALDESC:Events for Grassroots House
REFRESH-INTERVAL;VALUE=DURATION:PT1H
X-Robots-Tag:noindex
X-PUBLISHED-TTL:PT1H
BEGIN:VTIMEZONE
TZID:UTC
BEGIN:STANDARD
TZOFFSETFROM:+0000
TZOFFSETTO:+0000
TZNAME:UTC
DTSTART:20250101T000000
END:STANDARD
END:VTIMEZONE
BEGIN:VTIMEZONE
TZID:Asia/Krasnoyarsk
BEGIN:STANDARD
TZOFFSETFROM:+0700
TZOFFSETTO:+0700
TZNAME:+07
DTSTART:20250101T000000
END:STANDARD
END:VTIMEZONE
BEGIN:VEVENT
DTSTART;TZID=UTC:20260314T150000
DTEND;TZID=UTC:20260314T160000
DTSTAMP:20260423T100233
CREATED:20251002T191022Z
LAST-MODIFIED:20251002T191022Z
UID:10002438-1773500400-1773504000@www.grassrootshouse.org
SUMMARY:Berkeley Tenant Organizing Task Force Meeting (BTU)
DESCRIPTION:
URL:https://www.grassrootshouse.org/event/berkeley-tenant-organizing-task-force-meeting-btu-3/2026-03-14/
END:VEVENT
BEGIN:VEVENT
DTSTART;TZID=UTC:20260314T160000
DTEND;TZID=UTC:20260314T190000
DTSTAMP:20260423T100233
CREATED:20260301T023849Z
LAST-MODIFIED:20260301T023943Z
UID:10002928-1773504000-1773514800@www.grassrootshouse.org
SUMMARY:IWW • 2026 Planning Session
DESCRIPTION:
URL:https://www.grassrootshouse.org/event/iww-2026-planning-session-2/
END:VEVENT
BEGIN:VEVENT
DTSTART;TZID=UTC:20260315T160000
DTEND;TZID=UTC:20260315T180000
DTSTAMP:20260423T100233
CREATED:20250115T211243Z
LAST-MODIFIED:20250517T024732Z
UID:10001287-1773590400-1773597600@www.grassrootshouse.org
SUMMARY:Berkeley Tenants Union Membership Meeting
DESCRIPTION:Join us the third Sunday of every month from 4:00pm to 5:30pm for our regular membership meeting and potluck! \nYou can sign-up for our email list at bit.ly/BerkeleyTenants.
URL:https://www.grassrootshouse.org/event/berkeley-tenants-union-membership-meeting/2026-03-15/
ATTACH;FMTTYPE=image/jpeg:https://www.grassrootshouse.org/wp-content/uploads/2025/01/Third-Sunday-of-the-Month.jpg
ORGANIZER;CN="Berkeley Tenants Union":MAILTO:info@berkeleytenants.org
END:VEVENT
BEGIN:VEVENT
DTSTART;TZID=Asia/Krasnoyarsk:20260316T090000
DTEND;TZID=Asia/Krasnoyarsk:20260316T123000
DTSTAMP:20260423T100233
CREATED:20260311T160838Z
LAST-MODIFIED:20260311T160838Z
UID:10002935-1773651600-1773664200@www.grassrootshouse.org
SUMMARY:IWW IU 410 Textile Workers
DESCRIPTION:
URL:https://www.grassrootshouse.org/event/iww-iu-410-textile-workers/
LOCATION:Back Room
END:VEVENT
BEGIN:VEVENT
DTSTART;TZID=UTC:20260316T190000
DTEND;TZID=UTC:20260316T220000
DTSTAMP:20260423T100233
CREATED:20250112T214551Z
LAST-MODIFIED:20250112T214629Z
UID:10000827-1773687600-1773698400@www.grassrootshouse.org
SUMMARY:CopWatch meeting
DESCRIPTION:
URL:https://www.grassrootshouse.org/event/copwatch-meeting/2026-03-16/
END:VEVENT
BEGIN:VEVENT
DTSTART;TZID=UTC:20260319T210000
DTEND;TZID=UTC:20260319T233000
DTSTAMP:20260423T100233
CREATED:20260318T222802Z
LAST-MODIFIED:20260318T222802Z
UID:10002938-1773954000-1773963000@www.grassrootshouse.org
SUMMARY:Education & Research Workers I.U. 620\, IWW
DESCRIPTION:
URL:https://www.grassrootshouse.org/event/education-research-workers-i-u-620-iww/
LOCATION:Back Room
END:VEVENT
BEGIN:VEVENT
DTSTART;TZID=UTC:20260321T150000
DTEND;TZID=UTC:20260321T170000
DTSTAMP:20260423T100233
CREATED:20260302T002431Z
LAST-MODIFIED:20260302T012244Z
UID:10002929-1774105200-1774112400@www.grassrootshouse.org
SUMMARY:Flip the BCC (via Copwatch)
DESCRIPTION:
URL:https://www.grassrootshouse.org/event/flip-the-bcc-via-copwatch/
END:VEVENT
BEGIN:VEVENT
DTSTART;TZID=UTC:20260322T110000
DTEND;TZID=UTC:20260322T130000
DTSTAMP:20260423T100233
CREATED:20250121T190248Z
LAST-MODIFIED:20260121T050440Z
UID:10001409-1774177200-1774184400@www.grassrootshouse.org
SUMMARY:Berkeley Tenants Union
DESCRIPTION:
URL:https://www.grassrootshouse.org/event/berkeley-tenants-union/2026-03-22/
ORGANIZER;CN="Berkeley Tenants Union":MAILTO:info@berkeleytenants.org
END:VEVENT
BEGIN:VEVENT
DTSTART;TZID=UTC:20260322T140000
DTEND;TZID=UTC:20260322T200000
DTSTAMP:20260423T100233
CREATED:20260217T033608Z
LAST-MODIFIED:20260217T033608Z
UID:10002922-1774188000-1774209600@www.grassrootshouse.org
SUMMARY:Copwatch Strategy mtg
DESCRIPTION:Contact Andrea
URL:https://www.grassrootshouse.org/event/copwatch-strategy-mtg/
END:VEVENT
BEGIN:VEVENT
DTSTART;TZID=UTC:20260323T190000
DTEND;TZID=UTC:20260323T220000
DTSTAMP:20260423T100233
CREATED:20250112T214551Z
LAST-MODIFIED:20250112T214629Z
UID:10000828-1774292400-1774303200@www.grassrootshouse.org
SUMMARY:CopWatch meeting
DESCRIPTION:
URL:https://www.grassrootshouse.org/event/copwatch-meeting/2026-03-23/
END:VEVENT
BEGIN:VEVENT
DTSTART;TZID=UTC:20260325T190000
DTEND;TZID=UTC:20260325T200000
DTSTAMP:20260423T100233
CREATED:20250112T214354Z
LAST-MODIFIED:20250112T214745Z
UID:10001101-1774465200-1774468800@www.grassrootshouse.org
SUMMARY:TANC (Tenant and Neighborhood Council) meeting
DESCRIPTION:
URL:https://www.grassrootshouse.org/event/tanc-tenant-and-neighborhood-council-meeting-2/2026-03-25/
END:VEVENT
BEGIN:VEVENT
DTSTART;TZID=UTC:20260328T100000
DTEND;TZID=UTC:20260328T120000
DTSTAMP:20260423T100233
CREATED:20260306T160119Z
LAST-MODIFIED:20260306T160119Z
UID:10002931-1774692000-1774699200@www.grassrootshouse.org
SUMMARY:Rapid responders (Copwatch)
DESCRIPTION:
URL:https://www.grassrootshouse.org/event/rapid-responders-copwatch/2026-03-28/
END:VEVENT
BEGIN:VEVENT
DTSTART;TZID=UTC:20260328T100000
DTEND;TZID=UTC:20260328T130000
DTSTAMP:20260423T100233
CREATED:20260108T232000Z
LAST-MODIFIED:20260108T232000Z
UID:10002744-1774692000-1774702800@www.grassrootshouse.org
SUMMARY:Copwatch Neighborhood Patrols
DESCRIPTION:
URL:https://www.grassrootshouse.org/event/copwatch-neighborhood-patrols-2/2026-03-28/
END:VEVENT
BEGIN:VEVENT
DTSTART;TZID=UTC:20260328T130000
DTEND;TZID=UTC:20260328T143000
DTSTAMP:20260423T100233
CREATED:20260110T172253Z
LAST-MODIFIED:20260110T172253Z
UID:10002832-1774702800-1774708200@www.grassrootshouse.org
SUMMARY:BTU Steering Committee Meeting
DESCRIPTION:
URL:https://www.grassrootshouse.org/event/btu-steering-committee-meeting-2/2026-03-28/
END:VEVENT
BEGIN:VEVENT
DTSTART;TZID=UTC:20260328T143000
DTEND;TZID=UTC:20260328T153000
DTSTAMP:20260423T100233
CREATED:20251002T191317Z
LAST-MODIFIED:20251002T191317Z
UID:10002558-1774708200-1774711800@www.grassrootshouse.org
SUMMARY:Berkeley Tenant Organizing Task Force Meeting (BTU)
DESCRIPTION:
URL:https://www.grassrootshouse.org/event/berkeley-tenant-organizing-task-force-meeting-btu-4/2026-03-28/
END:VEVENT
BEGIN:VEVENT
DTSTART;TZID=UTC:20260329T130000
DTEND;TZID=UTC:20260329T143000
DTSTAMP:20260423T100233
CREATED:20250112T214510Z
LAST-MODIFIED:20251210T030905Z
UID:10002711-1774789200-1774794600@www.grassrootshouse.org
SUMMARY:Black Rose Study Group
DESCRIPTION:
URL:https://www.grassrootshouse.org/event/black-rose-study-group/2026-03-29/
END:VEVENT
BEGIN:VEVENT
DTSTART;TZID=UTC:20260329T143000
DTEND;TZID=UTC:20260329T180000
DTSTAMP:20260423T100233
CREATED:20260224T050821Z
LAST-MODIFIED:20260224T050821Z
UID:10002925-1774794600-1774807200@www.grassrootshouse.org
SUMMARY:IWW Retail Workers I.U. 660
DESCRIPTION:
URL:https://www.grassrootshouse.org/event/iww-retail-workers-i-u-660/
END:VEVENT
BEGIN:VEVENT
DTSTART;TZID=UTC:20260329T180000
DTEND;TZID=UTC:20260329T200000
DTSTAMP:20260423T100233
CREATED:20260329T185114Z
LAST-MODIFIED:20260329T185114Z
UID:10002939-1774807200-1774814400@www.grassrootshouse.org
SUMMARY:BTU Phonebank
DESCRIPTION:
URL:https://www.grassrootshouse.org/event/btu-phonebank-2/
END:VEVENT
BEGIN:VEVENT
DTSTART;TZID=UTC:20260330T190000
DTEND;TZID=UTC:20260330T220000
DTSTAMP:20260423T100233
CREATED:20250112T214551Z
LAST-MODIFIED:20250112T214629Z
UID:10000829-1774897200-1774908000@www.grassrootshouse.org
SUMMARY:CopWatch meeting
DESCRIPTION:
URL:https://www.grassrootshouse.org/event/copwatch-meeting/2026-03-30/
END:VEVENT
BEGIN:VEVENT
DTSTART;TZID=UTC:20260402T180000
DTEND;TZID=UTC:20260402T220000
DTSTAMP:20260423T100233
CREATED:20250606T005258Z
LAST-MODIFIED:20250606T005258Z
UID:10001757-1775152800-1775167200@www.grassrootshouse.org
SUMMARY:IWW Meeting
DESCRIPTION:
URL:https://www.grassrootshouse.org/event/iww-meeting-5/2026-04-02/
END:VEVENT
BEGIN:VEVENT
DTSTART;TZID=UTC:20260404T160000
DTEND;TZID=UTC:20260404T190000
DTSTAMP:20260423T100233
CREATED:20260316T231748Z
LAST-MODIFIED:20260316T232055Z
UID:10002936-1775318400-1775329200@www.grassrootshouse.org
SUMMARY:IWW Planning Meeting
DESCRIPTION:
URL:https://www.grassrootshouse.org/event/iww-planning-meeting/
END:VEVENT
BEGIN:VEVENT
DTSTART;TZID=UTC:20260405T110000
DTEND;TZID=UTC:20260405T130000
DTSTAMP:20260423T100233
CREATED:20260331T051601Z
LAST-MODIFIED:20260331T051601Z
UID:10002941-1775386800-1775394000@www.grassrootshouse.org
SUMMARY:Berkeley Tenants Union
DESCRIPTION:
URL:https://www.grassrootshouse.org/event/berkeley-tenants-union-6/
END:VEVENT
BEGIN:VEVENT
DTSTART;TZID=UTC:20260406T090000
DTEND;TZID=UTC:20260406T123000
DTSTAMP:20260423T100233
CREATED:20260406T090122Z
LAST-MODIFIED:20260419T234121Z
UID:10002945-1775466000-1775478600@www.grassrootshouse.org
SUMMARY:IWW IU 410 Textile Workers
DESCRIPTION:
URL:https://www.grassrootshouse.org/event/iww-iu-410-textile-workers-2/2026-04-06/
LOCATION:Back Room
END:VEVENT
BEGIN:VEVENT
DTSTART;TZID=UTC:20260406T190000
DTEND;TZID=UTC:20260406T220000
DTSTAMP:20260423T100233
CREATED:20250112T214551Z
LAST-MODIFIED:20250112T214629Z
UID:10000830-1775502000-1775512800@www.grassrootshouse.org
SUMMARY:CopWatch meeting
DESCRIPTION:
URL:https://www.grassrootshouse.org/event/copwatch-meeting/2026-04-06/
END:VEVENT
BEGIN:VEVENT
DTSTART;TZID=UTC:20260408T190000
DTEND;TZID=UTC:20260408T200000
DTSTAMP:20260423T100233
CREATED:20250112T214329Z
LAST-MODIFIED:20250112T214813Z
UID:10001162-1775674800-1775678400@www.grassrootshouse.org
SUMMARY:TANC (Tenant and Neighborhood Council) meeting
DESCRIPTION:
URL:https://www.grassrootshouse.org/event/tanc-tenant-and-neighborhood-council-meeting/2026-04-08/
END:VEVENT
BEGIN:VEVENT
DTSTART;TZID=UTC:20260410T060000
DTEND;TZID=UTC:20260410T220000
DTSTAMP:20260423T100233
CREATED:20260401T172116Z
LAST-MODIFIED:20260401T172116Z
UID:10002942-1775800800-1775858400@www.grassrootshouse.org
SUMMARY:IWW I.U. 620 Education Workers Meeting
DESCRIPTION:
URL:https://www.grassrootshouse.org/event/iww-i-u-620-education-workers-meeting/
END:VEVENT
BEGIN:VEVENT
DTSTART;TZID=UTC:20260411T100000
DTEND;TZID=UTC:20260411T120000
DTSTAMP:20260423T100233
CREATED:20260306T160119Z
LAST-MODIFIED:20260306T160119Z
UID:10002932-1775901600-1775908800@www.grassrootshouse.org
SUMMARY:Rapid responders (Copwatch)
DESCRIPTION:
URL:https://www.grassrootshouse.org/event/rapid-responders-copwatch/2026-04-11/
END:VEVENT
BEGIN:VEVENT
DTSTART;TZID=UTC:20260411T100000
DTEND;TZID=UTC:20260411T130000
DTSTAMP:20260423T100233
CREATED:20260108T232000Z
LAST-MODIFIED:20260108T232000Z
UID:10002745-1775901600-1775912400@www.grassrootshouse.org
SUMMARY:Copwatch Neighborhood Patrols
DESCRIPTION:
URL:https://www.grassrootshouse.org/event/copwatch-neighborhood-patrols-2/2026-04-11/
END:VEVENT
BEGIN:VEVENT
DTSTART;TZID=UTC:20260411T130000
DTEND;TZID=UTC:20260411T143000
DTSTAMP:20260423T100233
CREATED:20260110T172048Z
LAST-MODIFIED:20260110T172048Z
UID:10002765-1775912400-1775917800@www.grassrootshouse.org
SUMMARY:BTU Steering Committee Meeting
DESCRIPTION:
URL:https://www.grassrootshouse.org/event/btu-steering-committee-meeting/2026-04-11/
END:VEVENT
BEGIN:VEVENT
DTSTART;TZID=UTC:20260411T150000
DTEND;TZID=UTC:20260411T160000
DTSTAMP:20260423T100233
CREATED:20251002T191022Z
LAST-MODIFIED:20251002T191022Z
UID:10002439-1775919600-1775923200@www.grassrootshouse.org
SUMMARY:Berkeley Tenant Organizing Task Force Meeting (BTU)
DESCRIPTION:
URL:https://www.grassrootshouse.org/event/berkeley-tenant-organizing-task-force-meeting-btu-3/2026-04-11/
END:VEVENT
END:VCALENDAR