BEGIN:VCALENDAR
VERSION:2.0
PRODID:-//Grassroots House - ECPv6.15.17.1//NONSGML v1.0//EN
CALSCALE:GREGORIAN
METHOD:PUBLISH
X-WR-CALNAME:Grassroots House
X-ORIGINAL-URL:https://www.grassrootshouse.org
X-WR-CALDESC:Events for Grassroots House
REFRESH-INTERVAL;VALUE=DURATION:PT1H
X-Robots-Tag:noindex
X-PUBLISHED-TTL:PT1H
BEGIN:VTIMEZONE
TZID:UTC
BEGIN:STANDARD
TZOFFSETFROM:+0000
TZOFFSETTO:+0000
TZNAME:UTC
DTSTART:20240101T000000
END:STANDARD
END:VTIMEZONE
BEGIN:VEVENT
DTSTART;TZID=UTC:20251215T190000
DTEND;TZID=UTC:20251215T220000
DTSTAMP:20260422T222650
CREATED:20250112T214551Z
LAST-MODIFIED:20250112T214629Z
UID:10000814-1765825200-1765836000@www.grassrootshouse.org
SUMMARY:CopWatch meeting
DESCRIPTION:
URL:https://www.grassrootshouse.org/event/copwatch-meeting/2025-12-15/
END:VEVENT
BEGIN:VEVENT
DTSTART;TZID=UTC:20251218T183000
DTEND;TZID=UTC:20251218T203000
DTSTAMP:20260422T222650
CREATED:20251202T045220Z
LAST-MODIFIED:20251202T045220Z
UID:10002705-1766082600-1766089800@www.grassrootshouse.org
SUMMARY:Copwatch: Letter writing Group to Stop Flock
DESCRIPTION:
URL:https://www.grassrootshouse.org/event/copwatch-letter-writing-group-to-stop-flock/
END:VEVENT
BEGIN:VEVENT
DTSTART;TZID=UTC:20251221T160000
DTEND;TZID=UTC:20251221T180000
DTSTAMP:20260422T222650
CREATED:20250115T211243Z
LAST-MODIFIED:20250517T024732Z
UID:10001284-1766332800-1766340000@www.grassrootshouse.org
SUMMARY:Berkeley Tenants Union Membership Meeting
DESCRIPTION:Join us the third Sunday of every month from 4:00pm to 5:30pm for our regular membership meeting and potluck! \nYou can sign-up for our email list at bit.ly/BerkeleyTenants.
URL:https://www.grassrootshouse.org/event/berkeley-tenants-union-membership-meeting/2025-12-21/
ATTACH;FMTTYPE=image/jpeg:https://www.grassrootshouse.org/wp-content/uploads/2025/01/Third-Sunday-of-the-Month.jpg
ORGANIZER;CN="Berkeley Tenants Union":MAILTO:info@berkeleytenants.org
END:VEVENT
BEGIN:VEVENT
DTSTART;TZID=UTC:20251222T190000
DTEND;TZID=UTC:20251222T220000
DTSTAMP:20260422T222650
CREATED:20250112T214551Z
LAST-MODIFIED:20250112T214629Z
UID:10000815-1766430000-1766440800@www.grassrootshouse.org
SUMMARY:CopWatch meeting
DESCRIPTION:
URL:https://www.grassrootshouse.org/event/copwatch-meeting/2025-12-22/
END:VEVENT
BEGIN:VEVENT
DTSTART;TZID=UTC:20251224T190000
DTEND;TZID=UTC:20251224T200000
DTSTAMP:20260422T222650
CREATED:20250112T214354Z
LAST-MODIFIED:20250112T214745Z
UID:10001098-1766602800-1766606400@www.grassrootshouse.org
SUMMARY:TANC (Tenant and Neighborhood Council) meeting
DESCRIPTION:
URL:https://www.grassrootshouse.org/event/tanc-tenant-and-neighborhood-council-meeting-2/2025-12-24/
END:VEVENT
BEGIN:VEVENT
DTSTART;TZID=UTC:20251227T143000
DTEND;TZID=UTC:20251227T153000
DTSTAMP:20260422T222650
CREATED:20251002T191317Z
LAST-MODIFIED:20251002T191317Z
UID:10002555-1766845800-1766849400@www.grassrootshouse.org
SUMMARY:Berkeley Tenant Organizing Task Force Meeting (BTU)
DESCRIPTION:
URL:https://www.grassrootshouse.org/event/berkeley-tenant-organizing-task-force-meeting-btu-4/2025-12-27/
END:VEVENT
BEGIN:VEVENT
DTSTART;TZID=UTC:20251228T110000
DTEND;TZID=UTC:20251228T130000
DTSTAMP:20260422T222650
CREATED:20250121T190248Z
LAST-MODIFIED:20260121T050440Z
UID:10001406-1766919600-1766926800@www.grassrootshouse.org
SUMMARY:Berkeley Tenants Union
DESCRIPTION:
URL:https://www.grassrootshouse.org/event/berkeley-tenants-union/2025-12-28/
ORGANIZER;CN="Berkeley Tenants Union":MAILTO:info@berkeleytenants.org
END:VEVENT
BEGIN:VEVENT
DTSTART;TZID=UTC:20251228T130000
DTEND;TZID=UTC:20251228T143000
DTSTAMP:20260422T222650
CREATED:20250112T214510Z
LAST-MODIFIED:20251210T030905Z
UID:10001347-1766926800-1766932200@www.grassrootshouse.org
SUMMARY:Black Rose Study Group
DESCRIPTION:
URL:https://www.grassrootshouse.org/event/black-rose-study-group/2025-12-28/
END:VEVENT
BEGIN:VEVENT
DTSTART;TZID=UTC:20251229T190000
DTEND;TZID=UTC:20251229T220000
DTSTAMP:20260422T222650
CREATED:20250112T214551Z
LAST-MODIFIED:20250112T214629Z
UID:10000816-1767034800-1767045600@www.grassrootshouse.org
SUMMARY:CopWatch meeting
DESCRIPTION:
URL:https://www.grassrootshouse.org/event/copwatch-meeting/2025-12-29/
END:VEVENT
BEGIN:VEVENT
DTSTART;TZID=UTC:20260101T180000
DTEND;TZID=UTC:20260101T220000
DTSTAMP:20260422T222650
CREATED:20250606T005258Z
LAST-MODIFIED:20250606T005258Z
UID:10001754-1767290400-1767304800@www.grassrootshouse.org
SUMMARY:IWW Meeting
DESCRIPTION:
URL:https://www.grassrootshouse.org/event/iww-meeting-5/2026-01-01/
END:VEVENT
BEGIN:VEVENT
DTSTART;TZID=UTC:20260103T143000
DTEND;TZID=UTC:20260103T153000
DTSTAMP:20260422T222650
CREATED:20251002T185717Z
LAST-MODIFIED:20251002T190644Z
UID:10002065-1767450600-1767454200@www.grassrootshouse.org
SUMMARY:Berkeley Tenant Organizing Task Force Meeting (BTU)
DESCRIPTION:
URL:https://www.grassrootshouse.org/event/berkeley-tenant-organizing-task-force-meeting-btu-2-2/2026-01-03/
END:VEVENT
BEGIN:VEVENT
DTSTART;TZID=UTC:20260105T190000
DTEND;TZID=UTC:20260105T220000
DTSTAMP:20260422T222650
CREATED:20250112T214551Z
LAST-MODIFIED:20250112T214629Z
UID:10000817-1767639600-1767650400@www.grassrootshouse.org
SUMMARY:CopWatch meeting
DESCRIPTION:
URL:https://www.grassrootshouse.org/event/copwatch-meeting/2026-01-05/
END:VEVENT
BEGIN:VEVENT
DTSTART;TZID=UTC:20260110T100000
DTEND;TZID=UTC:20260110T130000
DTSTAMP:20260422T222650
CREATED:20260108T232000Z
LAST-MODIFIED:20260108T232000Z
UID:10002739-1768039200-1768050000@www.grassrootshouse.org
SUMMARY:Copwatch Neighborhood Patrols
DESCRIPTION:
URL:https://www.grassrootshouse.org/event/copwatch-neighborhood-patrols-2/2026-01-10/
END:VEVENT
BEGIN:VEVENT
DTSTART;TZID=UTC:20260110T130000
DTEND;TZID=UTC:20260110T143000
DTSTAMP:20260422T222650
CREATED:20260110T172048Z
LAST-MODIFIED:20260110T172048Z
UID:10002762-1768050000-1768055400@www.grassrootshouse.org
SUMMARY:BTU Steering Committee Meeting
DESCRIPTION:
URL:https://www.grassrootshouse.org/event/btu-steering-committee-meeting/2026-01-10/
END:VEVENT
BEGIN:VEVENT
DTSTART;TZID=UTC:20260110T150000
DTEND;TZID=UTC:20260110T160000
DTSTAMP:20260422T222650
CREATED:20251002T191022Z
LAST-MODIFIED:20251002T191022Z
UID:10002436-1768057200-1768060800@www.grassrootshouse.org
SUMMARY:Berkeley Tenant Organizing Task Force Meeting (BTU)
DESCRIPTION:
URL:https://www.grassrootshouse.org/event/berkeley-tenant-organizing-task-force-meeting-btu-3/2026-01-10/
END:VEVENT
BEGIN:VEVENT
DTSTART;TZID=UTC:20260112T190000
DTEND;TZID=UTC:20260112T220000
DTSTAMP:20260422T222650
CREATED:20250112T214551Z
LAST-MODIFIED:20250112T214629Z
UID:10000818-1768244400-1768255200@www.grassrootshouse.org
SUMMARY:CopWatch meeting
DESCRIPTION:
URL:https://www.grassrootshouse.org/event/copwatch-meeting/2026-01-12/
END:VEVENT
BEGIN:VEVENT
DTSTART;TZID=UTC:20260113T190000
DTEND;TZID=UTC:20260113T200000
DTSTAMP:20260422T222650
CREATED:20250112T213551Z
LAST-MODIFIED:20250112T214850Z
UID:10001220-1768330800-1768334400@www.grassrootshouse.org
SUMMARY:Grassroots House monthly house meeting
DESCRIPTION:
URL:https://www.grassrootshouse.org/event/grassroots-house-monthly-house-meeting/2026-01-13/
END:VEVENT
BEGIN:VEVENT
DTSTART;TZID=UTC:20260114T190000
DTEND;TZID=UTC:20260114T200000
DTSTAMP:20260422T222650
CREATED:20250112T214329Z
LAST-MODIFIED:20250112T214813Z
UID:10001159-1768417200-1768420800@www.grassrootshouse.org
SUMMARY:TANC (Tenant and Neighborhood Council) meeting
DESCRIPTION:
URL:https://www.grassrootshouse.org/event/tanc-tenant-and-neighborhood-council-meeting/2026-01-14/
END:VEVENT
BEGIN:VEVENT
DTSTART;TZID=UTC:20260118T160000
DTEND;TZID=UTC:20260118T180000
DTSTAMP:20260422T222650
CREATED:20250115T211243Z
LAST-MODIFIED:20250517T024732Z
UID:10001285-1768752000-1768759200@www.grassrootshouse.org
SUMMARY:Berkeley Tenants Union Membership Meeting
DESCRIPTION:Join us the third Sunday of every month from 4:00pm to 5:30pm for our regular membership meeting and potluck! \nYou can sign-up for our email list at bit.ly/BerkeleyTenants.
URL:https://www.grassrootshouse.org/event/berkeley-tenants-union-membership-meeting/2026-01-18/
ATTACH;FMTTYPE=image/jpeg:https://www.grassrootshouse.org/wp-content/uploads/2025/01/Third-Sunday-of-the-Month.jpg
ORGANIZER;CN="Berkeley Tenants Union":MAILTO:info@berkeleytenants.org
END:VEVENT
BEGIN:VEVENT
DTSTART;TZID=UTC:20260119T190000
DTEND;TZID=UTC:20260119T220000
DTSTAMP:20260422T222650
CREATED:20250112T214551Z
LAST-MODIFIED:20250112T214629Z
UID:10000819-1768849200-1768860000@www.grassrootshouse.org
SUMMARY:CopWatch meeting
DESCRIPTION:
URL:https://www.grassrootshouse.org/event/copwatch-meeting/2026-01-19/
END:VEVENT
BEGIN:VEVENT
DTSTART;TZID=UTC:20260121T140000
DTEND;TZID=UTC:20260121T180000
DTSTAMP:20260422T222650
CREATED:20260119T152027Z
LAST-MODIFIED:20260119T152027Z
UID:10002912-1769004000-1769018400@www.grassrootshouse.org
SUMMARY:Street medic training
DESCRIPTION:
URL:https://www.grassrootshouse.org/event/street-medic-training/
END:VEVENT
BEGIN:VEVENT
DTSTART;TZID=UTC:20260124T130000
DTEND;TZID=UTC:20260124T143000
DTSTAMP:20260422T222650
CREATED:20260110T172253Z
LAST-MODIFIED:20260110T172253Z
UID:10002830-1769259600-1769265000@www.grassrootshouse.org
SUMMARY:BTU Steering Committee Meeting
DESCRIPTION:
URL:https://www.grassrootshouse.org/event/btu-steering-committee-meeting-2/2026-01-24/
END:VEVENT
BEGIN:VEVENT
DTSTART;TZID=UTC:20260124T143000
DTEND;TZID=UTC:20260124T153000
DTSTAMP:20260422T222650
CREATED:20251002T191317Z
LAST-MODIFIED:20251002T191317Z
UID:10002556-1769265000-1769268600@www.grassrootshouse.org
SUMMARY:Berkeley Tenant Organizing Task Force Meeting (BTU)
DESCRIPTION:
URL:https://www.grassrootshouse.org/event/berkeley-tenant-organizing-task-force-meeting-btu-4/2026-01-24/
END:VEVENT
BEGIN:VEVENT
DTSTART;TZID=UTC:20260125T100000
DTEND;TZID=UTC:20260125T120000
DTSTAMP:20260422T222650
CREATED:20260108T232000Z
LAST-MODIFIED:20260108T232000Z
UID:10002740-1769335200-1769342400@www.grassrootshouse.org
SUMMARY:Copwatch Neighborhood Patrols
DESCRIPTION:
URL:https://www.grassrootshouse.org/event/copwatch-neighborhood-patrols-2/2026-01-25/
END:VEVENT
BEGIN:VEVENT
DTSTART;TZID=UTC:20260125T130000
DTEND;TZID=UTC:20260125T143000
DTSTAMP:20260422T222650
CREATED:20250112T214510Z
LAST-MODIFIED:20251210T030905Z
UID:10001348-1769346000-1769351400@www.grassrootshouse.org
SUMMARY:Black Rose Study Group
DESCRIPTION:
URL:https://www.grassrootshouse.org/event/black-rose-study-group/2026-01-25/
END:VEVENT
BEGIN:VEVENT
DTSTART;TZID=UTC:20260125T160000
DTEND;TZID=UTC:20260125T180000
DTSTAMP:20260422T222650
CREATED:20260110T172350Z
LAST-MODIFIED:20260110T172350Z
UID:10002890-1769356800-1769364000@www.grassrootshouse.org
SUMMARY:BTU General Meeting
DESCRIPTION:
URL:https://www.grassrootshouse.org/event/btu-general-meeting/
END:VEVENT
BEGIN:VEVENT
DTSTART;TZID=UTC:20260126T190000
DTEND;TZID=UTC:20260126T220000
DTSTAMP:20260422T222650
CREATED:20250112T214551Z
LAST-MODIFIED:20250112T214629Z
UID:10000820-1769454000-1769464800@www.grassrootshouse.org
SUMMARY:CopWatch meeting
DESCRIPTION:
URL:https://www.grassrootshouse.org/event/copwatch-meeting/2026-01-26/
END:VEVENT
BEGIN:VEVENT
DTSTART;TZID=UTC:20260128T190000
DTEND;TZID=UTC:20260128T200000
DTSTAMP:20260422T222650
CREATED:20250112T214354Z
LAST-MODIFIED:20250112T214745Z
UID:10001099-1769626800-1769630400@www.grassrootshouse.org
SUMMARY:TANC (Tenant and Neighborhood Council) meeting
DESCRIPTION:
URL:https://www.grassrootshouse.org/event/tanc-tenant-and-neighborhood-council-meeting-2/2026-01-28/
END:VEVENT
BEGIN:VEVENT
DTSTART;TZID=UTC:20260130T090000
DTEND;TZID=UTC:20260130T170000
DTSTAMP:20260422T222650
CREATED:20260129T230854Z
LAST-MODIFIED:20260129T230854Z
UID:10002917-1769763600-1769792400@www.grassrootshouse.org
SUMMARY:IWW Bargaining Meeting
DESCRIPTION:
URL:https://www.grassrootshouse.org/event/iww-bargaining-meeting/
END:VEVENT
BEGIN:VEVENT
DTSTART;TZID=UTC:20260130T180000
DTEND;TZID=UTC:20260130T200000
DTSTAMP:20260422T222650
CREATED:20260122T025004Z
LAST-MODIFIED:20260122T041213Z
UID:10002915-1769796000-1769803200@www.grassrootshouse.org
SUMMARY:Copwatch Comms Meeting
DESCRIPTION:
URL:https://www.grassrootshouse.org/event/copwatch-comms-meeting/
END:VEVENT
END:VCALENDAR